{
 "currentVersion": 11.1,
 "serviceDescription": "Briarwood_052024_True_Ortho_tif",
 "name": "Briarwood_052024_True_Ortho_tif",
 "description": "",
 "extent": {
  "xmin": 428041.6717169048,
  "ymin": 3585889.5341932024,
  "xmax": 428637.68850157276,
  "ymax": 3586336.5467817034,
  "spatialReference": {
   "wkid": 32617,
   "latestWkid": 32617,
   "vcsWkid": 5773,
   "latestVcsWkid": 5773
  }
 },
 "initialExtent": {
  "xmin": 428041.6717169048,
  "ymin": 3585889.5341932024,
  "xmax": 428637.68850157276,
  "ymax": 3586336.5467817034,
  "spatialReference": {
   "wkid": 32617,
   "latestWkid": 32617,
   "vcsWkid": 5773,
   "latestVcsWkid": 5773
  }
 },
 "fullExtent": {
  "xmin": 428041.6717169048,
  "ymin": 3585889.5341932024,
  "xmax": 428637.68850157276,
  "ymax": 3586336.5467817034,
  "spatialReference": {
   "wkid": 32617,
   "latestWkid": 32617,
   "vcsWkid": 5773,
   "latestVcsWkid": 5773
  }
 },
 "sortableFields": "",
 "heightModelInfo": {
  "heightModel": "gravity_related_height",
  "vertCRS": "EGM96_Geoid",
  "heightUnit": "meter"
 },
 "bandCount": 3,
 "pixelType": "U8",
 "minValues": [
  15,
  22,
  16
 ],
 "maxValues": [
  254,
  254,
  254
 ],
 "meanValues": [
  138.6836135884,
  153.31354074478,
  112.81583497856
 ],
 "stdvValues": [
  48.295909721474,
  38.963662320479,
  54.805921966697
 ],
 "hasMultidimensions": false,
 "pixelSizeX": 0.14900419616699218,
 "pixelSizeY": 0.14900419616699218,
 "datasetFormat": "TIFF",
 "uncompressedSize": 36000000,
 "blockWidth": 256,
 "blockHeight": 256,
 "compressionType": "LZW",
 "bandNames": [
  "Red",
  "Green",
  "Blue"
 ],
 "allowCopy": true,
 "allowAnalysis": true,
 "itemAccess": false,
 "noDataValue": 0,
 "noDataValues": [
  0,
  0,
  0
 ],
 "minPixelSize": 0,
 "maxPixelSize": 0,
 "copyrightText": "",
 "serviceDataType": "esriImageServiceDataTypeRGB",
 "serviceSourceType": "esriImageServiceSourceTypeDataset",
 "objectIdField": "",
 "fields": [],
 "capabilities": "Image,Metadata,Mensuration",
 "defaultMosaicMethod": "Center",
 "allowedMosaicMethods": "",
 "sortField": "",
 "sortValue": null,
 "sortAscending": true,
 "mosaicOperator": "First",
 "defaultCompressionQuality": 75,
 "defaultResamplingMethod": "Bilinear",
 "maxImageHeight": 4100,
 "maxImageWidth": 15000,
 "allowRasterFunction": true,
 "rasterFunctionInfos": [
  {
   "name": "None",
   "description": "",
   "help": ""
  }
 ],
 "rasterTypeInfos": [
  {
   "name": "Raster Dataset",
   "description": "Supports all ArcGIS Raster Datasets",
   "help": ""
  }
 ],
 "mensurationCapabilities": "Basic",
 "hasHistograms": true,
 "hasColormap": false,
 "hasRasterAttributeTable": false,
 "minScale": 0,
 "maxScale": 0,
 "exportTilesAllowed": false,
 "supportsStatistics": false,
 "supportsAdvancedQueries": false,
 "editFieldsInfo": null,
 "ownershipBasedAccessControlForRasters": null,
 "allowComputeTiePoints": false,
 "useStandardizedQueries": true,
 "advancedQueryCapabilities": {
  "useStandardizedQueries": true,
  "supportsStatistics": false,
  "supportsOrderBy": false,
  "supportsDistinct": false,
  "supportsPagination": false
 },
 "spatialReference": {
  "wkid": 32617,
  "latestWkid": 32617,
  "vcsWkid": 5773,
  "latestVcsWkid": 5773
 }
}
