{
 "currentVersion": 11.1,
 "serviceDescription": "Chic_fil_a_south",
 "name": "Chic_fil_a_south",
 "description": "",
 "extent": {
  "xmin": 424996.531567572,
  "ymin": 3585877.1245024814,
  "xmax": 425928.6846017822,
  "ymax": 3586684.9904654636,
  "spatialReference": {
   "wkid": 32617,
   "latestWkid": 32617,
   "vcsWkid": 5773,
   "latestVcsWkid": 5773
  }
 },
 "initialExtent": {
  "xmin": 424996.531567572,
  "ymin": 3585877.1245024814,
  "xmax": 425928.6846017822,
  "ymax": 3586684.9904654636,
  "spatialReference": {
   "wkid": 32617,
   "latestWkid": 32617,
   "vcsWkid": 5773,
   "latestVcsWkid": 5773
  }
 },
 "fullExtent": {
  "xmin": 424996.531567572,
  "ymin": 3585877.1245024814,
  "xmax": 425928.6846017822,
  "ymax": 3586684.9904654636,
  "spatialReference": {
   "wkid": 32617,
   "latestWkid": 32617,
   "vcsWkid": 5773,
   "latestVcsWkid": 5773
  }
 },
 "sortableFields": "",
 "heightModelInfo": {
  "heightModel": "gravity_related_height",
  "vertCRS": "EGM96_Geoid",
  "heightUnit": "meter"
 },
 "bandCount": 3,
 "pixelType": "U8",
 "minValues": [
  3,
  4,
  4
 ],
 "maxValues": [
  254,
  254,
  254
 ],
 "meanValues": [
  124.64832745908,
  130.68920362402,
  104.78040089087
 ],
 "stdvValues": [
  48.247232036758,
  40.139949040218,
  49.865971187342
 ],
 "hasMultidimensions": false,
 "pixelSizeX": 0.12428707122802735,
 "pixelSizeY": 0.12428707122802735,
 "datasetFormat": "TIFF",
 "uncompressedSize": 146250000,
 "blockWidth": 256,
 "blockHeight": 256,
 "compressionType": "LZW",
 "bandNames": [
  "Red",
  "Green",
  "Blue"
 ],
 "allowCopy": true,
 "allowAnalysis": true,
 "itemAccess": false,
 "noDataValue": 0,
 "noDataValues": [
  0,
  0,
  0
 ],
 "minPixelSize": 0,
 "maxPixelSize": 0,
 "copyrightText": "",
 "serviceDataType": "esriImageServiceDataTypeRGB",
 "serviceSourceType": "esriImageServiceSourceTypeDataset",
 "objectIdField": "",
 "fields": [],
 "capabilities": "Image,Metadata,Mensuration",
 "defaultMosaicMethod": "Center",
 "allowedMosaicMethods": "",
 "sortField": "",
 "sortValue": null,
 "sortAscending": true,
 "mosaicOperator": "First",
 "defaultCompressionQuality": 75,
 "defaultResamplingMethod": "Bilinear",
 "maxImageHeight": 4100,
 "maxImageWidth": 15000,
 "allowRasterFunction": true,
 "rasterFunctionInfos": [
  {
   "name": "None",
   "description": "",
   "help": ""
  }
 ],
 "rasterTypeInfos": [
  {
   "name": "Raster Dataset",
   "description": "Supports all ArcGIS Raster Datasets",
   "help": ""
  }
 ],
 "mensurationCapabilities": "Basic",
 "hasHistograms": true,
 "hasColormap": false,
 "hasRasterAttributeTable": false,
 "minScale": 0,
 "maxScale": 0,
 "exportTilesAllowed": false,
 "supportsStatistics": false,
 "supportsAdvancedQueries": false,
 "editFieldsInfo": null,
 "ownershipBasedAccessControlForRasters": null,
 "allowComputeTiePoints": false,
 "useStandardizedQueries": true,
 "advancedQueryCapabilities": {
  "useStandardizedQueries": true,
  "supportsStatistics": false,
  "supportsOrderBy": false,
  "supportsDistinct": false,
  "supportsPagination": false
 },
 "spatialReference": {
  "wkid": 32617,
  "latestWkid": 32617,
  "vcsWkid": 5773,
  "latestVcsWkid": 5773
 }
}
