View In:
ArcGIS JavaScript
ArcGIS Online Map Viewer
ArcGIS Earth
Service Description: Parkser_67_South_True_Ortho_tif
Name: Parkser_67_South_True_Ortho_tif
Description:
Single Fused Map Cache: false
Extent:
XMin: 428569.5952743487
YMin: 3584529.031554784
XMax: 429080.0956443743
YMax: 3585039.53192481
Spatial Reference: 32617
(32617)
VCSWkid(5773)
LatestVCSWkid(5773)
Initial Extent:
XMin: 428569.5952743487
YMin: 3584529.031554784
XMax: 429080.0956443743
YMax: 3585039.53192481
Spatial Reference: 32617
(32617)
VCSWkid(5773)
LatestVCSWkid(5773)
Full Extent:
XMin: 428569.5952743487
YMin: 3584529.031554784
XMax: 429080.0956443743
YMax: 3585039.53192481
Spatial Reference: 32617
(32617)
VCSWkid(5773)
LatestVCSWkid(5773)
Pixel Size X: 0.11344452667236328
Pixel Size Y: 0.11344452667236328
Band Count: 3
Pixel Type: U8
RasterFunction Infos: {"rasterFunctionInfos": [{
"name": "None",
"description": "",
"help": ""
}]}
Mensuration Capabilities: Basic
Has Histograms: true
Has Colormap: false
Has Multi Dimensions : false
Rendering Rule:
Min Scale: 0
Max Scale: 0
Copyright Text:
Service Data Type: esriImageServiceDataTypeRGB
Min Values: 11, 17, 12
Max Values: 254, 254, 254
Mean Values: 142.9125759862, 146.60317309765, 123.60545807286
Standard Deviation Values: 50.620923763856, 42.482723218444, 56.069657178778
Object ID Field:
Fields:
None
Default Mosaic Method: Center
Allowed Mosaic Methods:
SortField:
SortValue: null
Mosaic Operator: First
Default Compression Quality: 75
Default Resampling Method: Bilinear
Max Record Count: null
Max Image Height: 4100
Max Image Width: 15000
Max Download Image Count: null
Max Mosaic Image Count: null
Allow Raster Function: true
Allow Copy: true
Allow Analysis: true
Allow Compute TiePoints: false
Supports Statistics: false
Supports Advanced Queries: false
Use StandardizedQueries: true
Raster Type Infos:
Name: Raster Dataset
Description: Supports all ArcGIS Raster Datasets
Help:
Has Raster Attribute Table: false
Edit Fields Info: null
Ownership Based AccessControl For Rasters: null
Child Resources:
Info
Histograms
Statistics
Key Properties
Legend
Raster Function Infos
Supported Operations:
Export Image
Identify
Measure
Compute Histograms
Compute Statistics Histograms
Get Samples
Compute Class Statistics
Query Boundary
Compute Pixel Location
Compute Angles
Validate
Project