View In:
ArcGIS JavaScript
ArcGIS Online Map Viewer
ArcGIS Earth
Service Description: Briarwood_052024_True_Ortho_tif
Name: Briarwood_052024_True_Ortho_tif
Description:
Single Fused Map Cache: false
Extent:
XMin: 428041.6717169048
YMin: 3585889.5341932024
XMax: 428637.68850157276
YMax: 3586336.5467817034
Spatial Reference: 32617
(32617)
VCSWkid(5773)
LatestVCSWkid(5773)
Initial Extent:
XMin: 428041.6717169048
YMin: 3585889.5341932024
XMax: 428637.68850157276
YMax: 3586336.5467817034
Spatial Reference: 32617
(32617)
VCSWkid(5773)
LatestVCSWkid(5773)
Full Extent:
XMin: 428041.6717169048
YMin: 3585889.5341932024
XMax: 428637.68850157276
YMax: 3586336.5467817034
Spatial Reference: 32617
(32617)
VCSWkid(5773)
LatestVCSWkid(5773)
Pixel Size X: 0.14900419616699218
Pixel Size Y: 0.14900419616699218
Band Count: 3
Pixel Type: U8
RasterFunction Infos: {"rasterFunctionInfos": [{
"name": "None",
"description": "",
"help": ""
}]}
Mensuration Capabilities: Basic
Has Histograms: true
Has Colormap: false
Has Multi Dimensions : false
Rendering Rule:
Min Scale: 0
Max Scale: 0
Copyright Text:
Service Data Type: esriImageServiceDataTypeRGB
Min Values: 15, 22, 16
Max Values: 254, 254, 254
Mean Values: 138.6836135884, 153.31354074478, 112.81583497856
Standard Deviation Values: 48.295909721474, 38.963662320479, 54.805921966697
Object ID Field:
Fields:
None
Default Mosaic Method: Center
Allowed Mosaic Methods:
SortField:
SortValue: null
Mosaic Operator: First
Default Compression Quality: 75
Default Resampling Method: Bilinear
Max Record Count: null
Max Image Height: 4100
Max Image Width: 15000
Max Download Image Count: null
Max Mosaic Image Count: null
Allow Raster Function: true
Allow Copy: true
Allow Analysis: true
Allow Compute TiePoints: false
Supports Statistics: false
Supports Advanced Queries: false
Use StandardizedQueries: true
Raster Type Infos:
Name: Raster Dataset
Description: Supports all ArcGIS Raster Datasets
Help:
Has Raster Attribute Table: false
Edit Fields Info: null
Ownership Based AccessControl For Rasters: null
Child Resources:
Info
Histograms
Statistics
Key Properties
Legend
Raster Function Infos
Supported Operations:
Export Image
Identify
Measure
Compute Histograms
Compute Statistics Histograms
Get Samples
Compute Class Statistics
Query Boundary
Compute Pixel Location
Compute Angles
Validate
Project