View In:
ArcGIS JavaScript
ArcGIS Online Map Viewer
ArcGIS Earth
Service Description: Chic_fil_a_south
Name: Chic_fil_a_south
Description:
Single Fused Map Cache: false
Extent:
XMin: 424996.531567572
YMin: 3585877.1245024814
XMax: 425928.6846017822
YMax: 3586684.9904654636
Spatial Reference: 32617
(32617)
VCSWkid(5773)
LatestVCSWkid(5773)
Initial Extent:
XMin: 424996.531567572
YMin: 3585877.1245024814
XMax: 425928.6846017822
YMax: 3586684.9904654636
Spatial Reference: 32617
(32617)
VCSWkid(5773)
LatestVCSWkid(5773)
Full Extent:
XMin: 424996.531567572
YMin: 3585877.1245024814
XMax: 425928.6846017822
YMax: 3586684.9904654636
Spatial Reference: 32617
(32617)
VCSWkid(5773)
LatestVCSWkid(5773)
Pixel Size X: 0.12428707122802735
Pixel Size Y: 0.12428707122802735
Band Count: 3
Pixel Type: U8
RasterFunction Infos: {"rasterFunctionInfos": [{
"name": "None",
"description": "",
"help": ""
}]}
Mensuration Capabilities: Basic
Has Histograms: true
Has Colormap: false
Has Multi Dimensions : false
Rendering Rule:
Min Scale: 0
Max Scale: 0
Copyright Text:
Service Data Type: esriImageServiceDataTypeRGB
Min Values: 3, 4, 4
Max Values: 254, 254, 254
Mean Values: 124.64832745908, 130.68920362402, 104.78040089087
Standard Deviation Values: 48.247232036758, 40.139949040218, 49.865971187342
Object ID Field:
Fields:
None
Default Mosaic Method: Center
Allowed Mosaic Methods:
SortField:
SortValue: null
Mosaic Operator: First
Default Compression Quality: 75
Default Resampling Method: Bilinear
Max Record Count: null
Max Image Height: 4100
Max Image Width: 15000
Max Download Image Count: null
Max Mosaic Image Count: null
Allow Raster Function: true
Allow Copy: true
Allow Analysis: true
Allow Compute TiePoints: false
Supports Statistics: false
Supports Advanced Queries: false
Use StandardizedQueries: true
Raster Type Infos:
Name: Raster Dataset
Description: Supports all ArcGIS Raster Datasets
Help:
Has Raster Attribute Table: false
Edit Fields Info: null
Ownership Based AccessControl For Rasters: null
Child Resources:
Info
Histograms
Statistics
Key Properties
Legend
Raster Function Infos
Supported Operations:
Export Image
Identify
Measure
Compute Histograms
Compute Statistics Histograms
Get Samples
Compute Class Statistics
Query Boundary
Compute Pixel Location
Compute Angles
Validate
Project